View In:
ArcGIS JavaScript
ArcGIS Online Map Viewer
ArcGIS Earth
Service Description: TreD/Markmodell_Lantmateriet
Name: TreD/Markmodell_Lantmateriet
Description:
Single Fused Map Cache: true
Tile Info:
- Height: 256
- Width: 256
- DPI: 96
-
Levels of Detail: 11
- Format: LERC
- Compression Quality: 0.0
- LERC Error: 0.05
- Origin: X: 108297.61
Y: 6161521.73
- Spatial Reference: 3008
(3008)
VCSWkid(105702)
LatestVCSWkid(5613)
Storage Info:
- Storage Format: esriMapCacheStorageModeCompactV2
- Packet Size: 128
Extent:
XMin: 117373.78604320844
YMin: 6133521.44703109
XMax: 150107.03852490318
YMax: 6156498.892512001
Spatial Reference: 3008
(3008)
LatestVCSWkid(0)
Initial Extent:
XMin: 117373.78604320844
YMin: 6133521.44703109
XMax: 150107.03852490318
YMax: 6156498.892512001
Spatial Reference: 3008
(3008)
LatestVCSWkid(0)
Full Extent:
XMin: 117373.78604320844
YMin: 6133521.44703109
XMax: 150107.03852490318
YMax: 6156498.892512001
Spatial Reference: 3008
(3008)
LatestVCSWkid(0)
Pixel Size X: 0.5701961865572969
Pixel Size Y: 0.570471361063386
Band Count: 1
Pixel Type: U8
RasterFunction Infos: {"rasterFunctionInfos": [{
"name": "None",
"description": "",
"help": ""
}]}
Mensuration Capabilities: Basic
Inspection Capabilities:
Has Histograms: true
Has Colormap: false
Has Multi Dimensions : false
Rendering Rule:
Min Scale: 250000
Max Scale: 244.140625
Min LOD: 0
Max LOD: 10
Copyright Text:
Service Data Type: esriImageServiceDataTypeGeneric
Min Values: 0
Max Values: 116
Mean Values: 29.455590036884754
Standard Deviation Values: 21.878106291508693
Object ID Field:
Fields:
None
Default Mosaic Method: Center
Allowed Mosaic Methods:
SortField:
SortValue: null
Mosaic Operator: First
Default Compression Quality: 75
Default Resampling Method: Bilinear
Max Record Count: null
Max Image Height: 4100
Max Image Width: 15000
Max Download Image Count: null
Max Mosaic Image Count: null
Allow Raster Function: true
Allow Copy: true
Allow Analysis: true
Allow Compute TiePoints: false
Supports Statistics: false
Supports Advanced Queries: false
Use StandardizedQueries: true
Raster Type Infos:
Name: Raster Dataset
Description: Supports all ArcGIS Raster Datasets
Help:
Has Raster Attribute Table: false
Edit Fields Info: null
Ownership Based AccessControl For Rasters: null
Child Resources:
Info
Histograms
Statistics
Key Properties
Legend
Raster Function Infos
Supported Operations:
Export Image
Identify
Measure
Compute Histograms
Compute Statistics Histograms
Get Samples
Compute Class Statistics
Query Boundary
Compute Pixel Location
Compute Angles
Validate
Project